BEGIN:VCALENDAR
VERSION:2.0
PRODID:-//The Neversink Valley Museum of History &amp; Innovation - ECPv6.15.20//NONSGML v1.0//EN
CALSCALE:GREGORIAN
METHOD:PUBLISH
X-ORIGINAL-URL:https://neversinkmuseum.org
X-WR-CALDESC:Events for The Neversink Valley Museum of History &amp; Innovation
REFRESH-INTERVAL;VALUE=DURATION:PT1H
X-Robots-Tag:noindex
X-PUBLISHED-TTL:PT1H
BEGIN:VTIMEZONE
TZID:America/New_York
BEGIN:DAYLIGHT
TZOFFSETFROM:-0500
TZOFFSETTO:-0400
TZNAME:EDT
DTSTART:20150308T070000
END:DAYLIGHT
BEGIN:STANDARD
TZOFFSETFROM:-0400
TZOFFSETTO:-0500
TZNAME:EST
DTSTART:20151101T060000
END:STANDARD
BEGIN:DAYLIGHT
TZOFFSETFROM:-0500
TZOFFSETTO:-0400
TZNAME:EDT
DTSTART:20160313T070000
END:DAYLIGHT
BEGIN:STANDARD
TZOFFSETFROM:-0400
TZOFFSETTO:-0500
TZNAME:EST
DTSTART:20161106T060000
END:STANDARD
BEGIN:DAYLIGHT
TZOFFSETFROM:-0500
TZOFFSETTO:-0400
TZNAME:EDT
DTSTART:20170312T070000
END:DAYLIGHT
BEGIN:STANDARD
TZOFFSETFROM:-0400
TZOFFSETTO:-0500
TZNAME:EST
DTSTART:20171105T060000
END:STANDARD
BEGIN:DAYLIGHT
TZOFFSETFROM:-0500
TZOFFSETTO:-0400
TZNAME:EDT
DTSTART:20180311T070000
END:DAYLIGHT
BEGIN:STANDARD
TZOFFSETFROM:-0400
TZOFFSETTO:-0500
TZNAME:EST
DTSTART:20181104T060000
END:STANDARD
BEGIN:DAYLIGHT
TZOFFSETFROM:-0500
TZOFFSETTO:-0400
TZNAME:EDT
DTSTART:20190310T070000
END:DAYLIGHT
BEGIN:STANDARD
TZOFFSETFROM:-0400
TZOFFSETTO:-0500
TZNAME:EST
DTSTART:20191103T060000
END:STANDARD
BEGIN:DAYLIGHT
TZOFFSETFROM:-0500
TZOFFSETTO:-0400
TZNAME:EDT
DTSTART:20200308T070000
END:DAYLIGHT
BEGIN:STANDARD
TZOFFSETFROM:-0400
TZOFFSETTO:-0500
TZNAME:EST
DTSTART:20201101T060000
END:STANDARD
BEGIN:DAYLIGHT
TZOFFSETFROM:-0500
TZOFFSETTO:-0400
TZNAME:EDT
DTSTART:20210314T070000
END:DAYLIGHT
BEGIN:STANDARD
TZOFFSETFROM:-0400
TZOFFSETTO:-0500
TZNAME:EST
DTSTART:20211107T060000
END:STANDARD
BEGIN:DAYLIGHT
TZOFFSETFROM:-0500
TZOFFSETTO:-0400
TZNAME:EDT
DTSTART:20220313T070000
END:DAYLIGHT
BEGIN:STANDARD
TZOFFSETFROM:-0400
TZOFFSETTO:-0500
TZNAME:EST
DTSTART:20221106T060000
END:STANDARD
BEGIN:DAYLIGHT
TZOFFSETFROM:-0500
TZOFFSETTO:-0400
TZNAME:EDT
DTSTART:20230312T070000
END:DAYLIGHT
BEGIN:STANDARD
TZOFFSETFROM:-0400
TZOFFSETTO:-0500
TZNAME:EST
DTSTART:20231105T060000
END:STANDARD
END:VTIMEZONE
BEGIN:VEVENT
DTSTART;TZID=America/New_York:20221204T100000
DTEND;TZID=America/New_York:20221204T150000
DTSTAMP:20260423T154115
CREATED:20221012T202726Z
LAST-MODIFIED:20221012T202929Z
UID:1589-1670148000-1670166000@neversinkmuseum.org
SUMMARY:Holiday Craft Boutique
DESCRIPTION:Our Holiday Craft Boutique has many handcrafted items by local artisans in a boutique setting: home decor\, folk art\, homestead and primitives\, handmade candles & soaps\, many holiday items\, knit items\, jewelry\, tree ornaments\, pet accessories\, and other unique offerings. The indoor venue\, free admission.\nMany items are under $5.\nThis is a benefit for The Neversink Valley Museum of History and Innovation. \nJoin us at The Visitor’s Center @ the D&H Canal Park in Cuddebackville\, NY. 58 Hoag Road\, right off Route 209.
URL:https://neversinkmuseum.org/event/holiday-craft-boutique-3/
LOCATION:D&H Canal Park Visitor’s Center\, 58 Hoag Road\, Cuddebackville\, NY. 12729
CATEGORIES:Craft Fair with The Neversink Valley Museum of History and Innovation
ATTACH;FMTTYPE=image/jpeg:https://neversinkmuseum.org/wp-content/uploads/2022/10/craft-fair-logo.jpg
ORGANIZER;CN="The Neversink Valley Museum of History & Innovation":MAILTO:nvam@neversinkmuseum.org
END:VEVENT
BEGIN:VEVENT
DTSTART;TZID=America/New_York:20191208T100000
DTEND;TZID=America/New_York:20191208T150000
DTSTAMP:20260423T154115
CREATED:20191020T202924Z
LAST-MODIFIED:20191020T204230Z
UID:1382-1575799200-1575817200@neversinkmuseum.org
SUMMARY:
DESCRIPTION:Last Stop Shop Holiday Craft Boutique\, Sunday December 8th \nHandcrafted items by local artisans for sale in an intimate boutique setting. \nIndoor venue\, lots of parking\, handicapped accessible. \nBenefits The Neversink Valley Museum of History & Innovation \nat the D&H Canal Park Visitors Center\, 58 Hoag Road in Cuddebackville\, NY 12729 \nItems for sale include home decor\, folk art\, homestead\, and primitives\, \nhandmade candles & soaps\, many holiday items\, knit items\, \njewelry\, tree ornaments\, pet accessories\, and other unique offerings. \nMany items under $5. \n 
URL:https://neversinkmuseum.org/event/https-www-facebook-com-events-721432201697176/
LOCATION:D&H Canal Park Visitor’s Center\, 58 Hoag Road\, Cuddebackville\, NY. 12729
CATEGORIES:Craft Fair with The Neversink Valley Museum of History and Innovation
ORGANIZER;CN="The Neversink Valley Museum of History & Innovation":MAILTO:nvam@neversinkmuseum.org
END:VEVENT
BEGIN:VEVENT
DTSTART;TZID=America/New_York:20181202T100000
DTEND;TZID=America/New_York:20181202T150000
DTSTAMP:20260423T154115
CREATED:20181201T001357Z
LAST-MODIFIED:20181201T001357Z
UID:1280-1543744800-1543762800@neversinkmuseum.org
SUMMARY:Holiday Craft Boutique
DESCRIPTION:Our Holiday Craft Boutique has many handcrafted items by local artisans in a boutique setting: home decor\, folk art\, homestead and primitives\, handmade candles & soaps\, many holiday items\, knit items\, jewelry\, tree ornaments\, pet accessories\, and other unique offerings. Indoor venue\, free admission.\nMany items under $5.\nThis is a benefit for The Neversink Valley Museum of History and Innovation. \nJoin us at The Visitor’s Center @ the D&H Canal Park in Cuddebackville\, NY. 58 Hoag Road\, right off Route 209.
URL:https://neversinkmuseum.org/event/holiday-craft-boutique-2/
LOCATION:D&H Canal Park Visitor’s Center\, 58 Hoag Road\, Cuddebackville\, NY. 12729
CATEGORIES:Craft Fair with The Neversink Valley Museum of History and Innovation
ORGANIZER;CN="The Neversink Valley Museum of History & Innovation":MAILTO:nvam@neversinkmuseum.org
END:VEVENT
BEGIN:VEVENT
DTSTART;TZID=America/New_York:20171203T100000
DTEND;TZID=America/New_York:20171203T150000
DTSTAMP:20260423T154115
CREATED:20170806T215555Z
LAST-MODIFIED:20171031T173003Z
UID:1101-1512295200-1512313200@neversinkmuseum.org
SUMMARY:Holiday Craft Boutique Sponsered by The Neversink Valley Museum
DESCRIPTION:HOLIDAY CRAFT BOUTIQUE\n\n\nSUNDAY\, DECEMBER 3\, 2017\n\n\n10:00 am – 3:00 pm\n\n\nD&H CANAL VISITOR’S CENTER\n\n\n58 HOAG ROAD\, CUDDEBACKVILLE\, NY 12729\n\n\nTO BENEFIT THE NEVERSINK VALLEY MUSEUM\n\n\n \n\n\nCap off your holiday shopping weekend and visit our Artisan Holiday Craft Boutique on Sunday\, December 3\, 2017\, at 10:00 am to 3:00 pm at the D&H Canal Visitor’s Center\, 58 Hoag Road in Cuddebackville\, NY\, just off of Route 209. Handcrafted goods include home décor\, primitive and folk art\, handmade candles\, soaps\, jewelry\, pet accessories\, holiday ornaments and other unique items. Many items under $5.00.\n\n\n \n\n\nEnjoy a festive day of shopping in a happy\, cheerful environment as you browse through handcrafted gifts made by local artisans. We’re offering such lovely and unique items as handmade candles\, soaps\, jewelry\, primitive and folk art\, and more. Decorate your tree with handmade ornaments and your home with one-of-a-kind goods you’ll only find here. Plenty of thoughtful gifts for all your friends and family – even pets! \n\n\n \n\n\nDIRECTIONS: Take Route 209 to Cuddebackville. Turn on Hoag Road\, either between the bridge and H.B.E. Elementary School\, drive past the museum and make your first right into Visitor’s Center OR turn by Cuddebackville Auto Sales & Repair (Hoag Road is U-shaped)\, continue down for 1/4 mile and make a left.\n\n\n \n\n\nFor more information about the Museum\, its mission to preserve local history or any events\, call (845) 754-8870\, visit our website at www.neversinkmuseum.org/events.
URL:https://neversinkmuseum.org/event/holiday-craft-boutique-sponsered-by-the-neversink-valley-museum-2/
LOCATION:D&H Canal Park Visitor’s Center\, 58 Hoag Road\, Cuddebackville\, NY. 12729
CATEGORIES:Craft Fair with The Neversink Valley Museum of History and Innovation
ORGANIZER;CN="The Neversink Valley Museum of History & Innovation":MAILTO:nvam@neversinkmuseum.org
END:VEVENT
BEGIN:VEVENT
DTSTART;TZID=America/New_York:20161208T190000
DTEND;TZID=America/New_York:20161208T200000
DTSTAMP:20260423T154115
CREATED:20160521T012022Z
LAST-MODIFIED:20160725T010304Z
UID:776-1481223600-1481227200@neversinkmuseum.org
SUMMARY:The Neversink Valley Museum of History and Innovation Board of Trustee's Meeting
DESCRIPTION:
URL:https://neversinkmuseum.org/event/the-neversink-valley-museum-of-history-and-innovation-board-of-trustees-meeting-8/
LOCATION:D&H Canal Park Visitor’s Center\, 58 Hoag Road\, Cuddebackville\, NY. 12729
CATEGORIES:Craft Fair with The Neversink Valley Museum of History and Innovation
ATTACH;FMTTYPE=:
ORGANIZER;CN="The Neversink Valley Museum of History & Innovation":MAILTO:nvam@neversinkmuseum.org
END:VEVENT
BEGIN:VEVENT
DTSTART;TZID=America/New_York:20161127T100000
DTEND;TZID=America/New_York:20161127T150000
DTSTAMP:20260423T154115
CREATED:20160521T012022Z
LAST-MODIFIED:20161030T015832Z
UID:777-1480240800-1480258800@neversinkmuseum.org
SUMMARY:Holiday Craft Boutique Sponsered by The Neversink Valley Museum
DESCRIPTION:HOLIDAY CRAFT FAIR\nSUNDAY\, NOVEMBER 27\, 2016\n10:00 am – 3:00 pm\nD&H CANAL VISITOR’S CENTER\n58 HOAG ROAD\, CUDDEBACKVILLE\, NY 12729\nTO BENEFIT THE NEVERSINK VALLEY MUSEUM \nCap off your holiday shopping weekend and visit our Artisan Holiday Craft Fair on Sunday\, November 27\, 2016 from 10:00 am to 3:00 pm at the D&H Canal Visitor’s Center\, 58 Hoag Road in Cuddebackville\, NY\, just off of Route 209. Handcrafted goods include home décor\, primitive and folk art\, handmade candles\, soaps\, jewelry\, pet accessories\, holiday ornaments and other unique items. Many items under $5.00. \nEnjoy a festive day of shopping in a happy\, cheerful environment as you browse through handcrafted gifts made by local artisans. We’re offering such lovely and unique items as handmade candles\, soaps\, jewelry\, primitive and folk art\, and more. Decorate your tree with handmade ornaments and your home with one-of-a kind goods you’ll only find here. Plenty of thoughtful gifts for all your friends and family – even pets! \nDIRECTIONS: Take Route 209 to Cuddebackville. Turn on Hoag Road\, either between the bridge and H.B.E. Elementary School\, drive past the museum and make your first right into Visitor’s Center OR turn by Cuddebackville Auto Sales & Repair (Hoag Road is U-shaped)\, continue down for 1/4 mile and make a left. \nFor more information about the Museum\, its mission to preserve local history or any events\, call (845) 754-8870\, visit our website at www.neversinkmuseum.org.
URL:https://neversinkmuseum.org/event/holiday-craft-boutique-sponsered-by-the-neversink-valley-museum/
LOCATION:D&H Canal Park Visitor’s Center\, 58 Hoag Road\, Cuddebackville\, NY. 12729
CATEGORIES:Craft Fair with The Neversink Valley Museum of History and Innovation
ATTACH;FMTTYPE=:
ORGANIZER;CN="The Neversink Valley Museum of History & Innovation":MAILTO:nvam@neversinkmuseum.org
END:VEVENT
END:VCALENDAR