BEGIN:VCALENDAR
VERSION:2.0
PRODID:-//The Neversink Valley Museum of History &amp; Innovation - ECPv6.15.20//NONSGML v1.0//EN
CALSCALE:GREGORIAN
METHOD:PUBLISH
X-WR-CALNAME:The Neversink Valley Museum of History &amp; Innovation
X-ORIGINAL-URL:https://neversinkmuseum.org
X-WR-CALDESC:Events for The Neversink Valley Museum of History &amp; Innovation
REFRESH-INTERVAL;VALUE=DURATION:PT1H
X-Robots-Tag:noindex
X-PUBLISHED-TTL:PT1H
BEGIN:VTIMEZONE
TZID:America/New_York
BEGIN:DAYLIGHT
TZOFFSETFROM:-0500
TZOFFSETTO:-0400
TZNAME:EDT
DTSTART:20150308T070000
END:DAYLIGHT
BEGIN:STANDARD
TZOFFSETFROM:-0400
TZOFFSETTO:-0500
TZNAME:EST
DTSTART:20151101T060000
END:STANDARD
BEGIN:DAYLIGHT
TZOFFSETFROM:-0500
TZOFFSETTO:-0400
TZNAME:EDT
DTSTART:20160313T070000
END:DAYLIGHT
BEGIN:STANDARD
TZOFFSETFROM:-0400
TZOFFSETTO:-0500
TZNAME:EST
DTSTART:20161106T060000
END:STANDARD
BEGIN:DAYLIGHT
TZOFFSETFROM:-0500
TZOFFSETTO:-0400
TZNAME:EDT
DTSTART:20170312T070000
END:DAYLIGHT
BEGIN:STANDARD
TZOFFSETFROM:-0400
TZOFFSETTO:-0500
TZNAME:EST
DTSTART:20171105T060000
END:STANDARD
END:VTIMEZONE
BEGIN:VTIMEZONE
TZID:America/Halifax
BEGIN:DAYLIGHT
TZOFFSETFROM:-0400
TZOFFSETTO:-0300
TZNAME:ADT
DTSTART:20150308T060000
END:DAYLIGHT
BEGIN:STANDARD
TZOFFSETFROM:-0300
TZOFFSETTO:-0400
TZNAME:AST
DTSTART:20151101T050000
END:STANDARD
BEGIN:DAYLIGHT
TZOFFSETFROM:-0400
TZOFFSETTO:-0300
TZNAME:ADT
DTSTART:20160313T060000
END:DAYLIGHT
BEGIN:STANDARD
TZOFFSETFROM:-0300
TZOFFSETTO:-0400
TZNAME:AST
DTSTART:20161106T050000
END:STANDARD
BEGIN:DAYLIGHT
TZOFFSETFROM:-0400
TZOFFSETTO:-0300
TZNAME:ADT
DTSTART:20170312T060000
END:DAYLIGHT
BEGIN:STANDARD
TZOFFSETFROM:-0300
TZOFFSETTO:-0400
TZNAME:AST
DTSTART:20171105T050000
END:STANDARD
END:VTIMEZONE
BEGIN:VEVENT
DTSTART;TZID=America/New_York:20160820T190000
DTEND;TZID=America/New_York:20160820T203000
DTSTAMP:20260423T191325
CREATED:20160524T215152Z
LAST-MODIFIED:20160818T001513Z
UID:791-1471719600-1471725000@neversinkmuseum.org
SUMMARY:EVENT CANCELED !!!!! Saturday Night Music Appreciation Society with  Musician to be Announced at 7PM August 20th @ 7PM
DESCRIPTION:We had to cancel this event because of a scheduling conflict\, Next Event is August 27th @ 7PM
URL:https://neversinkmuseum.org/event/saturday-night-music-appreciation-society-with-brad-scribner-at-7pm-august-20th-7pm-2/
LOCATION:D&H Canal Park Visitor’s Center\, 58 Hoag Road\, Cuddebackville\, NY. 12729
CATEGORIES:Saturday Night Music Appreciation Society
ORGANIZER;CN="The Neversink Valley Museum of History & Innovation":MAILTO:nvam@neversinkmuseum.org
END:VEVENT
BEGIN:VEVENT
DTSTART;TZID=America/New_York:20160716T190000
DTEND;TZID=America/New_York:20160716T190000
DTSTAMP:20260423T191325
CREATED:20160521T012021Z
LAST-MODIFIED:20160709T211334Z
UID:762-1468695600-1468695600@neversinkmuseum.org
SUMMARY:Saturday Night Music Appreciation Society With Suzie Arnowitz @ 7PM July 16th
DESCRIPTION:Suzy Arnowitz with Big Cow July 16th @ 7PM\n\n\n\nSaturday\, July 16\n\n\n\n\n\n\n \nSaturday\n7:00 pm\n\nNeversink Valley Museum presents: SATURDAY NIGHT MUSIC APPRECIATION SOCIETY\nwith Suzy Arnowitz with Big Cow\, Big Cow\, Anne and Mike Baglione \nAcoustic\, Roots Music\, and Folk/Traditional\nNeversink Valley Museum/D&H Canal Visitor’s Center\n58 Hoag Road\nCuddebackville\, NY   See Map\n\n\nCUDDEBACKVILLE — Join the “Saturday Night Music Appreciation Society”: a concert to benefit The Neversink Valley Museum of History and Innovation on July 16th at 7PM when they will present an evening of Americana\, Folk and Bluegrass music featuring Hudson Valley favorite Suzy Arnowitz\, a singer/songwriter who has performed in the bands Big Cow\, Oxford Depot\, and Tin Roof. Suzy Arnowitz likes to “play guitar\, writing songs\, and sing ‘em.” She blames that on her parents who taught her to sing “rounds” on long car rides along with her 8 siblings. Suzy has also been featured on “Good Morning America”\, Jay Ungar and Molly Mason’s “Dancing on Air” and on WFUV\, WNYC\, WNTI\, WFDU\, WVKR and WJFF. She hosted many music festivals at the Warwick Valley Winery with performer Mike Baglione. She and her family live in Warwick\, NY. The Concert will be held in the Pavilion at D&H Canal Visitor’s Center\, 58 Hoag Road (just off Route 209) in Cuddebackville. Music starts at 7:00PM\nPlease go to our website for Information
URL:https://neversinkmuseum.org/event/saturday-night-music-appreciation-society-with-suzie-arnowitz-7pm-july-16th/
LOCATION:D&H Canal Park Visitor’s Center\, 58 Hoag Road\, Cuddebackville\, NY. 12729
CATEGORIES:Saturday Night Music Appreciation Society
ATTACH;FMTTYPE=:
ORGANIZER;CN="The Neversink Valley Museum of History & Innovation":MAILTO:nvam@neversinkmuseum.org
END:VEVENT
BEGIN:VEVENT
DTSTART;TZID=America/New_York:20160618T190000
DTEND;TZID=America/New_York:20160618T190000
DTSTAMP:20260423T191325
CREATED:20160521T012021Z
LAST-MODIFIED:20160604T205357Z
UID:761-1466276400-1466276400@neversinkmuseum.org
SUMMARY:Saturday Night Music Appreciation Society With Joshua Tree at 7PM June 18th
DESCRIPTION:Saturday\n7:00 pm\n\n\nNeversink Valley Museum presents: \nSATURDAY NIGHT MUSIC APPRECIATION SOCIETY\nwith JOSHUA TREE\, Deborah Anne Fisher\, Stephen Vecchiotti \, Al Mul\, Acoustic\, Roots Music\, and Folk/Traditional \nwith Anne and Mike Baglione\n\nNeversink Valley Museum/D&H Canal Visitor’s Center\n58 Hoag Road\nCuddebackville\, NY   See Map\n\n\nThe Neversink Valley Museum \nof History and Innovation\nis happy to present JOSHUA TREE an Acoustic Roots/Americana/Folk/Bluegrass musical collaboration between Deborah Ann Fisher on vocals\, guitar and ukulele\, Stephen Vecchiotti on vocals\, guitar and mandolin and Al Muller on percussion. This high energy trio performs regularly in the Orange and Sullivan County area. Influences include John Prine\, Fleetwood Mac\, and Hank Williams. \nEvery event at the NEVERSINK VALLEY MUSEUM OF HISTORY AND INNOVATION goes to support our ongoing mission to educate and illuminate the history of the Neversink Valley and the D&H Canal. The Museum is open on Saturday and Sunday from Noon till four pm\, so please stop by. \nBecome a Member of the Museum and receive a discount at all events\, Go to www.neversinkmuseum.org and use our DONATION and MEMBERSHIP BUTTONS to conveniently Join or Support the Museum. \nOur SATURDAY NIGHT MUSIC APPRECIATION SOCIETY is curated by our dear friends Anne and Mike Baglione. They have been making our concerts happen for the past five years. \n$7.00 general admission\, $5.00 Museum members \nFor more information call 845-754-8870 or visit www.neversinkmuseum.org\nPlease go to our website for Information\n\n\n\n 
URL:https://neversinkmuseum.org/event/saturday-night-music-appreciation-society-with-joshua-tree-at-7pm-june-18th/
LOCATION:D&H Canal Park Visitor’s Center\, 58 Hoag Road\, Cuddebackville\, NY. 12729
CATEGORIES:Saturday Night Music Appreciation Society
ATTACH;FMTTYPE=:
ORGANIZER;CN="The Neversink Valley Museum of History & Innovation":MAILTO:nvam@neversinkmuseum.org
END:VEVENT
BEGIN:VEVENT
DTSTART;TZID=America/Halifax:20160521T190000
DTEND;TZID=America/Halifax:20160521T223000
DTSTAMP:20260423T191325
CREATED:20160417T021927Z
LAST-MODIFIED:20160512T042003Z
UID:731-1463857200-1463869800@neversinkmuseum.org
SUMMARY:The Saturday Night Music Appreciation Society Featuring: Jeff Weinman on the Piano
DESCRIPTION:Jeff ‘Deputy Dawg’ Weinman\nJeff Weinman plays old timey “Barrelhouse”  piano\, a combination of ragtime\,  blues and “honky tonk” stride piano styles that came out of the saloons and ghettos of New Orleans in the early decades of the 20th century.His influences include the music of Spencer Williams\, James  P. Johnson\, Jellyroll Morton\, Louis Armstrong\, Sidney Bechet\,  King Oliver\, Fats Waller\, and Bessie Smith.  He also is a student of old vaudeville acts and burlesque comedy. \nJeff will be performing an array of Dixieland standards\,  Hokum blues\, and Tin Pan Alley novelties. He tells jokes too. \nWe asked Jeff about why he continues to play this music and about his musical influences. “I play music that speaks to me with what I hear as an honest voice. It does not matter that it is from another time. I feel this music is good for people because it expresses great sadness and great joy without irony and without the burden of hipness\, or a jaded view of life.  When Louis Armstrong picked up his horn in 925 to go to Chicago to join up with King Oliver\, it was a ticket to leaving the ghetto behind and to become an “Ambassador to the World” . \nNo other musician was so loved by so many. This man changed the world  without the internet\, without television\, and in fact when only 25% of homes had a radio\, and 10% had a Victrola. Somehow he was beloved by the whole world though the clarity and emotional truth of his performances and the humor and humanity expressed in his music.” \nWe also asked him if he likes other kinds of music.  “I  have realized that our American Hot Jazz is much like other  “folk” music forms of other downtrodden peoples: Gypsy music of the Balkans\, Klezmer music of Eastern Europe\, Mexican Mariachi\, Afrocubano\, Taino > music\, and American Appalachian old timey fiddle music.  They all take great skill and discipline and years of practice  to play well. Each of these musical styles succeed at expressing  profound emotion with clarity\, sans irony\, and with little commercial gain.” \nJeff went on to add\, “People play all of these forms to achieve at their best\, a transcendence of suffering.  That is why these forms of music can be considered legitimately to be great Art\, and should be honored and taught\, and certainly not forgotten. Also\, you can dance to it\, and some of it is really funny. I like funny stuff\, and old jazz and blues is full of funny stuff.” \nhttps://www.youtube.com/watch?v=W9rVw_eD9WM
URL:https://neversinkmuseum.org/event/the-saturday-night-music-appreciation-society-may-21st-featureing-jeff-weinmam-on-the-piano/
LOCATION:D&H Canal Park Visitor’s Center\, 58 Hoag Road\, Cuddebackville\, NY. 12729
CATEGORIES:Saturday Night Music Appreciation Society
ORGANIZER;CN="The Neversink Valley Museum of History & Innovation":MAILTO:nvam@neversinkmuseum.org
END:VEVENT
BEGIN:VEVENT
DTSTART;TZID=America/New_York:20160416T190000
DTEND;TZID=America/New_York:20160416T223000
DTSTAMP:20260423T191325
CREATED:20160406T052806Z
LAST-MODIFIED:20160417T002717Z
UID:709-1460833200-1460845800@neversinkmuseum.org
SUMMARY:Neversink Valley Museum presents: SATURDAY NIGHT MUSIC APPRECIATION SOCIETY
DESCRIPTION:  \n\n\n\nSATURDAY NIGHT MUSIC APPRECIATION SOCIETY\nwith “John Henry’s Hammer”\, Dan Haggerty Marty Zybura\, Marty Zybura\, Anne and Mile Baglione\nBlues\, Folk/Traditional\, and Americana\nNeversink Valley Museum/D&H Canal Visitor’s Center\n58 Hoag Road\nCuddebackville\, NY   See Map\n\n\nSATURDAY NIGHT MUSIC APPRECIATION SOCIETY With “John Henry’s Hammer” Featuring Dan Haggerty and Marty Zybura \nSaturday\, April 16 @ 7PM \nD&H Canal Visitor’s Center 58 Hoag Road\, Cuddebackville\, NY \nJoin us for an evening of live music featuring Hudson Valley favorites “John Henry’s Hammer” who are Dan Haggerty and Marty Zybura. With Guest Artist Anne and Mike Baglione John Henry’s Hammer- an Acoustic Duo born of the American Blues/Folk tradition with influences spanning a century from Jug Band Music to Tom Waits. \n$7.00 general admission\, $5.00 Museum members For more information call 845-754-8870 or visit www.neversinkmuseum.org./events\n\n\n\n Saturday Night Music Appreciation Society\nwith John Henry’s Hammer\nFeaturing Dan Haggerty and Marty Zybura\nSaturday\, April 16 @ 7PM\nCome to the D&H Canal Visitor’s Center  \nlocated in the D&H Canal Park\, 58 Hoag Road\, Cuddebackville\, NY 12729 \nJoin us for an evening of live music featuring Hudson Valley favorites \nJohn Henry’s Hammer featuring Dan Haggerty and Marty Zybura \n                  Join us for an evening of live music featuring Hudson Valley favorites “John Henry’s Hammer” who are Dan Haggerty and Marty Zybura. With Guest Artist Anne and Mike Bagloine.  “John Henry’s Hammer” is an Acoustic Duo born of the American Blues/Folk tradition with influences spanning a century from Jug Band Music to Tom Waits. \nOur SATURDAY NIGHT MUSIC APPRECIATION SOCIETY is curated by our dear friends Anne and Mike Baglione. They have been making our concerts happen for the past five years. \n$7.00 general admission\, $5.00 Museum members \nFor more information call 845-754-8870 or visit www.neversinkmuseum.org./events \nFirst Concert of the New Season! Happy Spring! \n  \n 
URL:https://neversinkmuseum.org/event/neversink-valley-museum-presents-saturday-night-music-appreciation-society/
LOCATION:D&H Canal Park Visitor’s Center\, 58 Hoag Road\, Cuddebackville\, NY. 12729
CATEGORIES:Saturday Night Music Appreciation Society
ORGANIZER;CN="The Neversink Valley Museum of History & Innovation":MAILTO:nvam@neversinkmuseum.org
END:VEVENT
END:VCALENDAR