BEGIN:VCALENDAR
VERSION:2.0
PRODID:-//The Neversink Valley Museum of History &amp; Innovation - ECPv6.15.20//NONSGML v1.0//EN
CALSCALE:GREGORIAN
METHOD:PUBLISH
X-WR-CALNAME:The Neversink Valley Museum of History &amp; Innovation
X-ORIGINAL-URL:https://neversinkmuseum.org
X-WR-CALDESC:Events for The Neversink Valley Museum of History &amp; Innovation
REFRESH-INTERVAL;VALUE=DURATION:PT1H
X-Robots-Tag:noindex
X-PUBLISHED-TTL:PT1H
BEGIN:VTIMEZONE
TZID:UTC
BEGIN:STANDARD
TZOFFSETFROM:+0000
TZOFFSETTO:+0000
TZNAME:UTC
DTSTART:20160101T000000
END:STANDARD
END:VTIMEZONE
BEGIN:VTIMEZONE
TZID:America/New_York
BEGIN:DAYLIGHT
TZOFFSETFROM:-0500
TZOFFSETTO:-0400
TZNAME:EDT
DTSTART:20140309T070000
END:DAYLIGHT
BEGIN:STANDARD
TZOFFSETFROM:-0400
TZOFFSETTO:-0500
TZNAME:EST
DTSTART:20141102T060000
END:STANDARD
BEGIN:DAYLIGHT
TZOFFSETFROM:-0500
TZOFFSETTO:-0400
TZNAME:EDT
DTSTART:20150308T070000
END:DAYLIGHT
BEGIN:STANDARD
TZOFFSETFROM:-0400
TZOFFSETTO:-0500
TZNAME:EST
DTSTART:20151101T060000
END:STANDARD
BEGIN:DAYLIGHT
TZOFFSETFROM:-0500
TZOFFSETTO:-0400
TZNAME:EDT
DTSTART:20160313T070000
END:DAYLIGHT
BEGIN:STANDARD
TZOFFSETFROM:-0400
TZOFFSETTO:-0500
TZNAME:EST
DTSTART:20161106T060000
END:STANDARD
BEGIN:DAYLIGHT
TZOFFSETFROM:-0500
TZOFFSETTO:-0400
TZNAME:EDT
DTSTART:20170312T070000
END:DAYLIGHT
BEGIN:STANDARD
TZOFFSETFROM:-0400
TZOFFSETTO:-0500
TZNAME:EST
DTSTART:20171105T060000
END:STANDARD
END:VTIMEZONE
BEGIN:VEVENT
DTSTART;TZID=UTC:20171214T190000
DTEND;TZID=UTC:20171214T190000
DTSTAMP:20260423T204552
CREATED:20170806T215554Z
LAST-MODIFIED:20170806T215554Z
UID:1099-1513278000-1513278000@neversinkmuseum.org
SUMMARY:The Neversink Valley Museum of History and Innovation Board of Trustee's Meeting
DESCRIPTION:
URL:https://neversinkmuseum.org/event/the-neversink-valley-museum-of-history-and-innovation-board-of-trustees-meeting-13/
CATEGORIES:The Neversink Valley Museum Board Meetings
END:VEVENT
BEGIN:VEVENT
DTSTART;TZID=UTC:20171109T190000
DTEND;TZID=UTC:20171109T190000
DTSTAMP:20260423T204552
CREATED:20170806T215554Z
LAST-MODIFIED:20170806T215554Z
UID:1098-1510254000-1510254000@neversinkmuseum.org
SUMMARY:The Neversink Valley Museum of History and Innovation Board of Trustee's Meeting
DESCRIPTION:
URL:https://neversinkmuseum.org/event/the-neversink-valley-museum-of-history-and-innovation-board-of-trustees-meeting-12/
CATEGORIES:The Neversink Valley Museum Board Meetings
END:VEVENT
BEGIN:VEVENT
DTSTART;TZID=UTC:20171012T190000
DTEND;TZID=UTC:20171012T190000
DTSTAMP:20260423T204552
CREATED:20170806T215553Z
LAST-MODIFIED:20170806T215553Z
UID:1097-1507834800-1507834800@neversinkmuseum.org
SUMMARY:The Neversink Valley Museum of History and Innovation Board of Trustee's Meeting
DESCRIPTION:
URL:https://neversinkmuseum.org/event/the-neversink-valley-museum-of-history-and-innovation-board-of-trustees-meeting-11/
CATEGORIES:The Neversink Valley Museum Board Meetings
END:VEVENT
BEGIN:VEVENT
DTSTART;TZID=UTC:20170914T190000
DTEND;TZID=UTC:20170914T190000
DTSTAMP:20260423T204552
CREATED:20170806T215553Z
LAST-MODIFIED:20170806T215553Z
UID:1096-1505415600-1505415600@neversinkmuseum.org
SUMMARY:The Neversink Valley Museum of History and Innovation Board of Trustee's Meeting
DESCRIPTION:
URL:https://neversinkmuseum.org/event/the-neversink-valley-museum-of-history-and-innovation-board-of-trustees-meeting-10/
CATEGORIES:The Neversink Valley Museum Board Meetings
END:VEVENT
BEGIN:VEVENT
DTSTART;TZID=UTC:20170812T190000
DTEND;TZID=UTC:20170812T190000
DTSTAMP:20260423T204552
CREATED:20170806T215553Z
LAST-MODIFIED:20170806T215553Z
UID:1095-1502564400-1502564400@neversinkmuseum.org
SUMMARY:The Neversink Valley Museum of History and Innovation Board of Trustee's Meeting
DESCRIPTION:
URL:https://neversinkmuseum.org/event/the-neversink-valley-museum-of-history-and-innovation-board-of-trustees-meeting-9/
CATEGORIES:The Neversink Valley Museum Board Meetings
END:VEVENT
BEGIN:VEVENT
DTSTART;TZID=America/New_York:20161110T190000
DTEND;TZID=America/New_York:20161110T190000
DTSTAMP:20260423T204552
CREATED:20160521T012022Z
LAST-MODIFIED:20160524T215153Z
UID:775-1478804400-1478804400@neversinkmuseum.org
SUMMARY:The Neversink Valley Museum of History and Innovation Board of Trustee's Meeting
DESCRIPTION:
URL:https://neversinkmuseum.org/event/the-neversink-valley-museum-of-history-and-innovation-board-of-trustees-meeting-7/
CATEGORIES:The Neversink Valley Museum Board Meetings
ATTACH;FMTTYPE=:
ORGANIZER;CN="The Neversink Valley Museum of History & Innovation":MAILTO:nvam@neversinkmuseum.org
END:VEVENT
BEGIN:VEVENT
DTSTART;TZID=America/New_York:20161013T190000
DTEND;TZID=America/New_York:20161013T190000
DTSTAMP:20260423T204552
CREATED:20160521T012022Z
LAST-MODIFIED:20160524T215153Z
UID:774-1476385200-1476385200@neversinkmuseum.org
SUMMARY:The Neversink Valley Museum of History and Innovation Board of Trustee's Meeting
DESCRIPTION:
URL:https://neversinkmuseum.org/event/the-neversink-valley-museum-of-history-and-innovation-board-of-trustees-meeting-6/
CATEGORIES:The Neversink Valley Museum Board Meetings
ATTACH;FMTTYPE=:
ORGANIZER;CN="The Neversink Valley Museum of History & Innovation":MAILTO:nvam@neversinkmuseum.org
END:VEVENT
BEGIN:VEVENT
DTSTART;TZID=America/New_York:20160908T190000
DTEND;TZID=America/New_York:20160908T190000
DTSTAMP:20260423T204552
CREATED:20160521T012022Z
LAST-MODIFIED:20160524T215153Z
UID:773-1473361200-1473361200@neversinkmuseum.org
SUMMARY:The Neversink Valley Museum of History and Innovation Board of Trustee's Meeting
DESCRIPTION:
URL:https://neversinkmuseum.org/event/the-neversink-valley-museum-of-history-and-innovation-board-of-trustees-meeting-5/
CATEGORIES:The Neversink Valley Museum Board Meetings
ATTACH;FMTTYPE=:
ORGANIZER;CN="The Neversink Valley Museum of History & Innovation":MAILTO:nvam@neversinkmuseum.org
END:VEVENT
BEGIN:VEVENT
DTSTART;TZID=America/New_York:20160811T190000
DTEND;TZID=America/New_York:20160811T190000
DTSTAMP:20260423T204552
CREATED:20160521T012022Z
LAST-MODIFIED:20160524T215153Z
UID:772-1470942000-1470942000@neversinkmuseum.org
SUMMARY:The Neversink Valley Museum of History and Innovation Board of Trustee's Meeting
DESCRIPTION:
URL:https://neversinkmuseum.org/event/the-neversink-valley-museum-of-history-and-innovation-board-of-trustees-meeting-4/
CATEGORIES:The Neversink Valley Museum Board Meetings
ATTACH;FMTTYPE=:
ORGANIZER;CN="The Neversink Valley Museum of History & Innovation":MAILTO:nvam@neversinkmuseum.org
END:VEVENT
BEGIN:VEVENT
DTSTART;TZID=America/New_York:20160714T190000
DTEND;TZID=America/New_York:20160714T190000
DTSTAMP:20260423T204552
CREATED:20160521T012022Z
LAST-MODIFIED:20160524T215153Z
UID:771-1468522800-1468522800@neversinkmuseum.org
SUMMARY:The Neversink Valley Museum of History and Innovation Board of Trustee's Meeting
DESCRIPTION:
URL:https://neversinkmuseum.org/event/the-neversink-valley-museum-of-history-and-innovation-board-of-trustees-meeting-3/
CATEGORIES:The Neversink Valley Museum Board Meetings
ATTACH;FMTTYPE=:
ORGANIZER;CN="The Neversink Valley Museum of History & Innovation":MAILTO:nvam@neversinkmuseum.org
END:VEVENT
BEGIN:VEVENT
DTSTART;TZID=America/New_York:20160609T190000
DTEND;TZID=America/New_York:20160609T190000
DTSTAMP:20260423T204552
CREATED:20160521T012022Z
LAST-MODIFIED:20160524T215153Z
UID:770-1465498800-1465498800@neversinkmuseum.org
SUMMARY:The Neversink Valley Museum of History and Innovation Board of Trustee's Meeting
DESCRIPTION:
URL:https://neversinkmuseum.org/event/the-neversink-valley-museum-of-history-and-innovation-board-of-trustees-meeting-2/
CATEGORIES:The Neversink Valley Museum Board Meetings
ATTACH;FMTTYPE=:
ORGANIZER;CN="The Neversink Valley Museum of History & Innovation":MAILTO:nvam@neversinkmuseum.org
END:VEVENT
BEGIN:VEVENT
DTSTART;TZID=America/New_York:20150823T190000
DTEND;TZID=America/New_York:20150823T190000
DTSTAMP:20260423T204552
CREATED:20160521T012022Z
LAST-MODIFIED:20160524T215153Z
UID:769-1440356400-1440356400@neversinkmuseum.org
SUMMARY:The Neversink Valley Museum of History and Innovation Board of Trustee's Meeting
DESCRIPTION:
URL:https://neversinkmuseum.org/event/the-neversink-valley-museum-of-history-and-innovation-board-of-trustees-meeting/
CATEGORIES:The Neversink Valley Museum Board Meetings
ATTACH;FMTTYPE=:
ORGANIZER;CN="The Neversink Valley Museum of History & Innovation":MAILTO:nvam@neversinkmuseum.org
END:VEVENT
END:VCALENDAR