BEGIN:VCALENDAR
VERSION:2.0
PRODID:-//The Neversink Valley Museum of History &amp; Innovation - ECPv6.15.20//NONSGML v1.0//EN
CALSCALE:GREGORIAN
METHOD:PUBLISH
X-ORIGINAL-URL:https://neversinkmuseum.org
X-WR-CALDESC:Events for The Neversink Valley Museum of History &amp; Innovation
REFRESH-INTERVAL;VALUE=DURATION:PT1H
X-Robots-Tag:noindex
X-PUBLISHED-TTL:PT1H
BEGIN:VTIMEZONE
TZID:America/New_York
BEGIN:DAYLIGHT
TZOFFSETFROM:-0500
TZOFFSETTO:-0400
TZNAME:EDT
DTSTART:20140309T070000
END:DAYLIGHT
BEGIN:STANDARD
TZOFFSETFROM:-0400
TZOFFSETTO:-0500
TZNAME:EST
DTSTART:20141102T060000
END:STANDARD
BEGIN:DAYLIGHT
TZOFFSETFROM:-0500
TZOFFSETTO:-0400
TZNAME:EDT
DTSTART:20150308T070000
END:DAYLIGHT
BEGIN:STANDARD
TZOFFSETFROM:-0400
TZOFFSETTO:-0500
TZNAME:EST
DTSTART:20151101T060000
END:STANDARD
BEGIN:DAYLIGHT
TZOFFSETFROM:-0500
TZOFFSETTO:-0400
TZNAME:EDT
DTSTART:20160313T070000
END:DAYLIGHT
BEGIN:STANDARD
TZOFFSETFROM:-0400
TZOFFSETTO:-0500
TZNAME:EST
DTSTART:20161106T060000
END:STANDARD
BEGIN:DAYLIGHT
TZOFFSETFROM:-0500
TZOFFSETTO:-0400
TZNAME:EDT
DTSTART:20170312T070000
END:DAYLIGHT
BEGIN:STANDARD
TZOFFSETFROM:-0400
TZOFFSETTO:-0500
TZNAME:EST
DTSTART:20171105T060000
END:STANDARD
END:VTIMEZONE
BEGIN:VEVENT
DTSTART;TZID=America/New_York:20160609T190000
DTEND;TZID=America/New_York:20160609T190000
DTSTAMP:20260423T224107
CREATED:20160521T012022Z
LAST-MODIFIED:20160524T215153Z
UID:770-1465498800-1465498800@neversinkmuseum.org
SUMMARY:The Neversink Valley Museum of History and Innovation Board of Trustee's Meeting
DESCRIPTION:
URL:https://neversinkmuseum.org/event/the-neversink-valley-museum-of-history-and-innovation-board-of-trustees-meeting-2/
CATEGORIES:The Neversink Valley Museum Board Meetings
ATTACH;FMTTYPE=:
ORGANIZER;CN="The Neversink Valley Museum of History & Innovation":MAILTO:nvam@neversinkmuseum.org
END:VEVENT
BEGIN:VEVENT
DTSTART;TZID=America/New_York:20150823T190000
DTEND;TZID=America/New_York:20150823T190000
DTSTAMP:20260423T224107
CREATED:20160521T012022Z
LAST-MODIFIED:20160524T215153Z
UID:769-1440356400-1440356400@neversinkmuseum.org
SUMMARY:The Neversink Valley Museum of History and Innovation Board of Trustee's Meeting
DESCRIPTION:
URL:https://neversinkmuseum.org/event/the-neversink-valley-museum-of-history-and-innovation-board-of-trustees-meeting/
CATEGORIES:The Neversink Valley Museum Board Meetings
ATTACH;FMTTYPE=:
ORGANIZER;CN="The Neversink Valley Museum of History & Innovation":MAILTO:nvam@neversinkmuseum.org
END:VEVENT
END:VCALENDAR